BEGIN:VCALENDAR
VERSION:2.0
PRODID:-//Santa Emilia - ECPv6.15.20//NONSGML v1.0//EN
CALSCALE:GREGORIAN
METHOD:PUBLISH
X-WR-CALNAME:Santa Emilia
X-ORIGINAL-URL:https://santaemilia.es
X-WR-CALDESC:Events for Santa Emilia
REFRESH-INTERVAL;VALUE=DURATION:PT1H
X-Robots-Tag:noindex
X-PUBLISHED-TTL:PT1H
BEGIN:VTIMEZONE
TZID:UTC
BEGIN:STANDARD
TZOFFSETFROM:+0000
TZOFFSETTO:+0000
TZNAME:UTC
DTSTART:20240101T000000
END:STANDARD
END:VTIMEZONE
BEGIN:VEVENT
DTSTART;TZID=UTC:20250726T200000
DTEND;TZID=UTC:20250726T213000
DTSTAMP:20260422T012615
CREATED:20250707T125300Z
LAST-MODIFIED:20250707T154854Z
UID:3088-1753560000-1753565400@santaemilia.es
SUMMARY:Artie Shaw & Gershwin
DESCRIPTION:ARTIE SHAW & GERSHWIN\n  \nENTRADAS CON BEBIDA Y REFRIGERIOS -CLICK AQUI-\n  \nIntérpretes:\nNicolás Ravelli (piano y dirección) \nJosé Antonio García‑Trevijano Velasco (clarinete)\, joven talento formado en el Real Conservatorio Superior de Música de Madrid y en el Conservatorio de Castilla‑La Mancha \n\nPrograma:\nRepertorio seleccionado de bandas sonoras emblemáticas\, acompañando el célebre Concierto para clarinete de Artie Shaw\, obra central de la velada. Las piezas girarán en torno a esta joya del swing-jazz\, conectadas por momentos cinematográficos evocadores. \n\nDescripción del evento:\nSanta Emilia acoge una velada donde el virtuosismo y la sensibilidad convergen en un espacio de refinada elegancia. Nicolás Ravelli dirige e interpreta al piano\, en un diálogo creativo con José Antonio García‑Trevijano Velasco. La propuesta fusiona el universo del cine clásico con la sofisticación del jazz\, ofreciendo una experiencia musical cargada de emoción y singularidad. \n\nPor qué no debe perdérselo su distinguido público: \nFusiona lo mejor del cine y el jazz\, englobando la cultura clásica desde una perspectiva renovada. \nSu apoyo a los valores de mentoría y formación\, reflejo de la visión artística y pedagógica de Santa Emilia. \nLugar exclusivo y patrimonial\, ideal para disfrutar de una velada cultural con intimidad y glamour. \nDetalles prácticos: \nFecha: Sábado\, 26 de julio de 2025 \nHora: 20:00 h \nLugar: Santa Emilia\, Mondoñedo (Galicia) \nEntradas: santaemilia.es/producto/noche-de-cultura-en-santa-emilia
URL:https://santaemilia.es/event/artie-shaw-gershwin/
LOCATION:Centro Cultural Santa Emilia\, Bispo Fernandez de Castro 11\, Mondoñedo (casco Urbano)\, Monodoñedo\, 27740
ATTACH;FMTTYPE=image/png:https://santaemilia.es/wp-content/uploads/2025/07/RAVELLI-2.png
ORGANIZER;CN="Centro Cultural Santa Emilia - Ayuntamiento de Mondo%C3%B1edo":MAILTO:secretariat@wkmt.co.uk
END:VEVENT
END:VCALENDAR