BEGIN:VCALENDAR
VERSION:2.0
PRODID:-//Santa Emilia - ECPv6.15.20//NONSGML v1.0//EN
CALSCALE:GREGORIAN
METHOD:PUBLISH
X-ORIGINAL-URL:https://santaemilia.es
X-WR-CALDESC:Events for Santa Emilia
REFRESH-INTERVAL;VALUE=DURATION:PT1H
X-Robots-Tag:noindex
X-PUBLISHED-TTL:PT1H
BEGIN:VTIMEZONE
TZID:UTC
BEGIN:STANDARD
TZOFFSETFROM:+0000
TZOFFSETTO:+0000
TZNAME:UTC
DTSTART:20240101T000000
END:STANDARD
END:VTIMEZONE
BEGIN:VEVENT
DTSTART;TZID=UTC:20250927T200000
DTEND;TZID=UTC:20250927T223000
DTSTAMP:20260421T223655
CREATED:20250802T154105Z
LAST-MODIFIED:20250802T154105Z
UID:3186-1759003200-1759012200@santaemilia.es
SUMMARY:LAURA PULIDO & IULIAN ABAGIU – Voces de Zarzuela y Canción Española
DESCRIPTION:Laura Pulido\, soprano · Iulian Abagiu\, pianoUna noche lírica de emoción\, herencia y pasión ibérica\n  \nENTRADAS CON BEBIDA Y REFRIGERIOS -CLICK AQUI-\n  \n📅 Septiembre 27\, 2025 · 🕗 20:00 h · Centro Cultural Santa Emilia🎟 Entradas: www.santaemilia.es | 📞 +34 644 69 42 80\n  \n\nPresentación\nSanta Emilia presenta una velada dedicada a la tradición lírica española\, protagonizada por la joven soprano Laura Pulido y el pianista Iulian Abagiu. A través del repertorio de zarzuela y canción española\, la propuesta reúne drama\, melancolía y lirismo popular con un enfoque interpretativo actualizado\, cálido y de profundo refinamiento. \n\nFragmento curatorial\nLaura Pulido\, reconocida por su vocación temprana hacia el repertorio español\, aporta una voz clara y expresiva que preserva la esencia dramática del género. Iulian Abagiu\, pianista de sólida técnica y sensibilidad musical\, ofrece acompañamientos que resaltan cada matiz vocal e interpretativo. Juntos aspiran a rescatar y revivir el alma de la zarzuela y canción con elegancia y autenticidad. \n\nPrograma\nEl recital incluirá fragmentos emblemáticos del repertorio de zarzuela y canción española —romanzas\, dúos populares y piezas de cámara lírica— con composiciones de autores como Moreno Torroba\, Vives\, Sorozábal\, Turina o Falla\, además de arreglos tradicionales. El programa definitivo se anunciará próximamente\, respetando así la dinámica emocional y narrativa que define el genere. \n\n Sobre los intérpretes\n\n\nLaura Pulido es soprano madrileña que desde niña ha explorado la voz con pasión. Ganadora del Premio Joven Promesa de Zarzuela Estudio Internacional 2025\, se distingue por su expresividad vocal\, afinación dramática y compromiso con el repertorio lírico español. \n\n\nIulian Abagiu\, pianista de origen rumano radicado en España\, combina virtuosismo técnico e intuición estética. Su estilo flexible y expresivo es ideal para acompañar la riqueza armónica y emocional del canto español. \n\n\n\nLa experiencia Santa Emilia\nSanta Emilia ofrece un entorno cultural único: acústica optimizada\, arquitectura histórica\, copa de vino selecto y aperitivo gourmet como cierre perfecto para una noche lírica. Este recital forma parte de una temporada otoñal que fusiona herencia cultural con propuestas musicales de gran refinamiento. \n\nReserva tus plazas\n  \nSolo 100 asientos (por espacio en salón histórico) \nAcceso anticipado para clientes de Santa Emilia \nDetalles prácticos: \nFecha: Sábado\, 27 de Octubre de  2025 \nHora: 20:00 h \nLugar: Santa Emilia\, Mondoñedo (Galicia) \nEntradas: santaemilia.es/producto/noche-de-cultura-en-santa-emilia
URL:https://santaemilia.es/event/laura-pulido-iulian-abagiu-voces-de-zarzuela-y-cancion-espanola/
LOCATION:Centro Cultural Santa Emilia\, Bispo Fernandez de Castro 11\, Mondoñedo (casco Urbano)\, Monodoñedo\, 27740
ATTACH;FMTTYPE=image/jpeg:https://santaemilia.es/wp-content/uploads/2025/07/WhatsApp-Image-2025-08-01-at-13.55.11-2.jpeg
ORGANIZER;CN="Centro Cultural Santa Emilia - Ayuntamiento de Mondo%C3%B1edo":MAILTO:secretariat@wkmt.co.uk
END:VEVENT
END:VCALENDAR