BEGIN:VCALENDAR
VERSION:2.0
PRODID:-//Santa Emilia - ECPv6.15.20//NONSGML v1.0//EN
CALSCALE:GREGORIAN
METHOD:PUBLISH
X-WR-CALNAME:Santa Emilia
X-ORIGINAL-URL:https://santaemilia.es
X-WR-CALDESC:Events for Santa Emilia
REFRESH-INTERVAL;VALUE=DURATION:PT1H
X-Robots-Tag:noindex
X-PUBLISHED-TTL:PT1H
BEGIN:VTIMEZONE
TZID:UTC
BEGIN:STANDARD
TZOFFSETFROM:+0000
TZOFFSETTO:+0000
TZNAME:UTC
DTSTART:20240101T000000
END:STANDARD
END:VTIMEZONE
BEGIN:VEVENT
DTSTART;TZID=UTC:20251129T200000
DTEND;TZID=UTC:20251129T223000
DTSTAMP:20260421T193037
CREATED:20250802T154501Z
LAST-MODIFIED:20250802T154501Z
UID:3188-1764446400-1764455400@santaemilia.es
SUMMARY:CHOPIN & DEBUSSY - Xabier Boixet\, piano
DESCRIPTION:CHOPIN & DEBUSSY\nXabier Boixet\, pianoSonidos románticos e impresionistas en diálogo \n  \nENTRADAS CON BEBIDA Y REFRIGERIOS -CLICK AQUI-\n  \n📅 Noviembre 29\, 2025 · 🕗 20:00 h · Centro Cultural Santa Emilia🎟 Entradas en www.santaemilia.es | 📞 +34 644 69 42 80\n  \n\nPresentación\nSanta Emilia se complace en presentar al joven pianista Xabier Boixet\, en un recital dedicado al encuentro entre la intensidad emocional de Chopin y la paleta armónica de Debussy. Esta velada ofrece una síntesis artística entre el clasicismo romántico y una nueva sensibilidad impresionista\, interpretada con elegancia y profundidad. \n\n📚 Fragmento curatorial\nChopin y Debussy comparten vínculos de expresión musical\, aunque surjan en contextos estéticos diferentes. Mientras Chopin pulió la delicadeza emocional y el virtuosismo poético del piano romántico\, Debussy reinventó ese lenguaje con armonías sutiles\, texturas translúcidas y enfoque impresionista. \nLa ejecución de obras de ambos compositores exige una técnica refinada y sensibilidad tímbrica\, con capacidad para manejar contrastes sonoros\, matices tonales y la claridad expresiva que caracteriza ambos universos musicales. \n\nPrograma\nXabier Boixet interpretará piezas emblemáticas de Chopin y Debussy\, tales como nocturnos\, baladas\, préludes\, imágenes o estudios. El repertorio combinará la melancolía íntima y el drama romántico con la atmósfera poética\, el color impressionista y la riqueza armónica de Debussy. El programa definitivo se hará público próximamente. \n\nSobre el intérprete\nXabier Boixet se distingue por su sonido refinado\, una técnica cuidadosa y una personalidad musical madura. Su enfoque combina sensibilidad histórica con precisión expresiva\, ideal para abordar repertorios que requieren tanto intensidad emocional como sutileza tímbrica. \n\nLa experiencia Santa Emilia\nUn ambiente histórico y cultural en el Palacio Santa Emilia —acústica cálida\, ambientación barroca y propuesta gourmet— sirve como escenario perfecto para una velada donde el piano conversa con la historia y la emoción. La inclusión de vino selecto y aperitivo gourmet completa una experiencia musical y estética inolvidable. \n\nReserva tus plazas\n  \nSolo 100 asientos (por espacio en salón histórico) \nAcceso anticipado para clientes de Santa Emilia \nDetalles prácticos: \nFecha: Sábado\, 29 de Noviembre de  2025 \nHora: 20:00 h \nLugar: Santa Emilia\, Mondoñedo (Galicia) \nEntradas: santaemilia.es/producto/noche-de-cultura-en-santa-emilia
URL:https://santaemilia.es/event/chopin-debussy-xabier-boixet-piano/
LOCATION:Centro Cultural Santa Emilia\, Bispo Fernandez de Castro 11\, Mondoñedo (casco Urbano)\, Monodoñedo\, 27740
ATTACH;FMTTYPE=image/jpeg:https://santaemilia.es/wp-content/uploads/2025/07/WhatsApp-Image-2025-08-01-at-16.12.50.jpeg
ORGANIZER;CN="Centro Cultural Santa Emilia - Ayuntamiento de Mondo%C3%B1edo":MAILTO:secretariat@wkmt.co.uk
END:VEVENT
END:VCALENDAR